BEGIN:VCALENDAR
VERSION:2.0
PRODID:-//Women of the Hall - ECPv6.15.20//NONSGML v1.0//EN
CALSCALE:GREGORIAN
METHOD:PUBLISH
X-ORIGINAL-URL:https://www.womenofthehall.org
X-WR-CALDESC:Events for Women of the Hall
REFRESH-INTERVAL;VALUE=DURATION:PT1H
X-Robots-Tag:noindex
X-PUBLISHED-TTL:PT1H
BEGIN:VTIMEZONE
TZID:America/New_York
BEGIN:DAYLIGHT
TZOFFSETFROM:-0500
TZOFFSETTO:-0400
TZNAME:EDT
DTSTART:20250309T070000
END:DAYLIGHT
BEGIN:STANDARD
TZOFFSETFROM:-0400
TZOFFSETTO:-0500
TZNAME:EST
DTSTART:20251102T060000
END:STANDARD
BEGIN:DAYLIGHT
TZOFFSETFROM:-0500
TZOFFSETTO:-0400
TZNAME:EDT
DTSTART:20260308T070000
END:DAYLIGHT
BEGIN:STANDARD
TZOFFSETFROM:-0400
TZOFFSETTO:-0500
TZNAME:EST
DTSTART:20261101T060000
END:STANDARD
BEGIN:DAYLIGHT
TZOFFSETFROM:-0500
TZOFFSETTO:-0400
TZNAME:EDT
DTSTART:20270314T070000
END:DAYLIGHT
BEGIN:STANDARD
TZOFFSETFROM:-0400
TZOFFSETTO:-0500
TZNAME:EST
DTSTART:20271107T060000
END:STANDARD
END:VTIMEZONE
BEGIN:VEVENT
DTSTART;TZID=America/New_York:20260509T093000
DTEND;TZID=America/New_York:20260509T103000
DTSTAMP:20260424T113905
CREATED:20260423T202016Z
LAST-MODIFIED:20260423T202019Z
UID:47376-1778319000-1778322600@www.womenofthehall.org
SUMMARY:Menopause & Pelvic Stability: Take Control of Your Health - 2nd in the Women's Health Month Series
DESCRIPTION:Presented by Vicki Hartman\, OTR/L\, CSOT Through education & instruction in breath and posture\, we will begin the process of unpacking the pelvic health implications of menopause and empower you with tools to restore & preserve stability\, mobility & function to live your healthiest and most joyous life.  
URL:https://www.womenofthehall.org/event/menopause-pelvic-stability-take-control-of-your-health-2nd-in-the-womens-health-month-series/
LOCATION:National Women’s Hall of Fame\, 1 Canal Street\, Seneca Falls\, NY\, 13148\, United States
ORGANIZER;CN="National Women's Hall of Fame":MAILTO:admin@womenofthehall.org
END:VEVENT
BEGIN:VEVENT
DTSTART;TZID=America/New_York:20260509T110000
DTEND;TZID=America/New_York:20260509T120000
DTSTAMP:20260424T113905
CREATED:20260423T190937Z
LAST-MODIFIED:20260423T190937Z
UID:47371-1778324400-1778328000@www.womenofthehall.org
SUMMARY:Stillness after the Stride Wellness Session
DESCRIPTION:
URL:https://www.womenofthehall.org/event/stillness-after-the-stride-wellness-session/
LOCATION:National Women’s Hall of Fame\, 1 Canal Street\, Seneca Falls\, NY\, 13148\, United States
ORGANIZER;CN="National Women's Hall of Fame":MAILTO:admin@womenofthehall.org
END:VEVENT
BEGIN:VEVENT
DTSTART;TZID=America/New_York:20260509T130000
DTEND;TZID=America/New_York:20260509T140000
DTSTAMP:20260424T113905
CREATED:20260423T190654Z
LAST-MODIFIED:20260423T195441Z
UID:47366-1778331600-1778335200@www.womenofthehall.org
SUMMARY:From Stillness to Action\, Author Book signing
DESCRIPTION:If you are interested in getting one or both of these books signed by the authors and you are not in Seneca Falls we will get them signed and send them to you.  You can order them using this link: \nhttps://114816.blackbaudhosting.com/114816/Schlain–Schiller-Book-Signing \n 
URL:https://www.womenofthehall.org/event/from-stillness-to-action-author-book-signing/
LOCATION:National Women’s Hall of Fame\, 1 Canal Street\, Seneca Falls\, NY\, 13148\, United States
ORGANIZER;CN="National Women's Hall of Fame":MAILTO:admin@womenofthehall.org
END:VEVENT
BEGIN:VEVENT
DTSTART;TZID=America/New_York:20260516T120000
DTEND;TZID=America/New_York:20260516T130000
DTSTAMP:20260424T113907
CREATED:20260423T203242Z
LAST-MODIFIED:20260423T203934Z
UID:47389-1778932800-1778936400@www.womenofthehall.org
SUMMARY:Hormones After 40: What Every Woman Needs to Know - 3rd in the Women's Health Month Series
DESCRIPTION:Presented by Dr. Ruth K. Odoi: This session will focus on what happens to hormones during perimenopause and menopause\, why so many women feel overlooked during this stage\, and what can actually be done to restore energy\, improve sleep and support overall well-being. We will also discuss common misconceptions around hormone replacement therapy and how to approach care in a more personalized\, root-cause way.\n			\n				\n					\n					\n					\n				\n				Dr. Odoi Halfshot (New)\n					\n					\n					\n				\n				rose-line-logo
URL:https://www.womenofthehall.org/event/hormones-after-40-what-every-woman-needs-to-know-3rd-in-the-womens-health-month-series/
LOCATION:National Women’s Hall of Fame\, 1 Canal Street\, Seneca Falls\, NY\, 13148\, United States
ORGANIZER;CN="National Women's Hall of Fame":MAILTO:admin@womenofthehall.org
END:VEVENT
BEGIN:VEVENT
DTSTART;TZID=America/New_York:20260523T093000
DTEND;TZID=America/New_York:20260523T103000
DTSTAMP:20260424T113907
CREATED:20260424T144356Z
LAST-MODIFIED:20260424T144400Z
UID:47404-1779528600-1779532200@www.womenofthehall.org
SUMMARY:Addressing the Nervous System Burden on Women; the Missing Piece of Healthcare - 4th in the Women's Health Series.
DESCRIPTION:Presented by: Dr. Alexandria (Lexi) Aruck\, D.C. MS Applied Clinical Nutrition.\nYour nervous system controls everything you say\, think\, feel\, do and believe\nto be true. It also controls the systems inside your body and has the ability to\nadapt to stressors… until it can’t anymore. Learn how you can harness its\npower to work for you\, promoting health and becoming more resilient to\nwhatever life throws at you.
URL:https://www.womenofthehall.org/event/addressing-the-nervous-system-burden-on-women-the-missing-piece-of-healthcare-4th-in-the-womens-health-series/
LOCATION:National Women’s Hall of Fame\, 1 Canal Street\, Seneca Falls\, NY\, 13148\, United States
ORGANIZER;CN="National Women's Hall of Fame":MAILTO:admin@womenofthehall.org
END:VEVENT
BEGIN:VEVENT
DTSTART;VALUE=DATE:20260924
DTEND;VALUE=DATE:20260925
DTSTAMP:20260424T113907
CREATED:20251124T183855Z
LAST-MODIFIED:20251124T183855Z
UID:46865-1790208000-1790294399@www.womenofthehall.org
SUMMARY:2026 Induction Ceremony
DESCRIPTION:
URL:https://www.womenofthehall.org/event/2026-induction-ceremony/
LOCATION:George Eastman Museum Rochester\, New York\, 900 East Ave\, Rochester\, NY\, 14607\, United States
ORGANIZER;CN="National Women's Hall of Fame":MAILTO:admin@womenofthehall.org
END:VEVENT
BEGIN:VEVENT
DTSTART;VALUE=DATE:20260925
DTEND;VALUE=DATE:20260926
DTSTAMP:20260424T113907
CREATED:20251124T183946Z
LAST-MODIFIED:20251124T183946Z
UID:46868-1790294400-1790380799@www.womenofthehall.org
SUMMARY:Induction 2026 Seneca Falls Celebrations
DESCRIPTION:
URL:https://www.womenofthehall.org/event/induction-2026-seneca-falls-celebrations/
LOCATION:National Women’s Hall of Fame\, 1 Canal Street\, Seneca Falls\, NY\, 13148\, United States
ORGANIZER;CN="National Women's Hall of Fame":MAILTO:admin@womenofthehall.org
END:VEVENT
END:VCALENDAR