BEGIN:VCALENDAR
VERSION:2.0
PRODID:-//Women of the Hall - ECPv6.15.20//NONSGML v1.0//EN
CALSCALE:GREGORIAN
METHOD:PUBLISH
X-ORIGINAL-URL:https://www.womenofthehall.org
X-WR-CALDESC:Events for Women of the Hall
REFRESH-INTERVAL;VALUE=DURATION:PT1H
X-Robots-Tag:noindex
X-PUBLISHED-TTL:PT1H
BEGIN:VTIMEZONE
TZID:America/New_York
BEGIN:DAYLIGHT
TZOFFSETFROM:-0500
TZOFFSETTO:-0400
TZNAME:EDT
DTSTART:20160313T070000
END:DAYLIGHT
BEGIN:STANDARD
TZOFFSETFROM:-0400
TZOFFSETTO:-0500
TZNAME:EST
DTSTART:20161106T060000
END:STANDARD
BEGIN:DAYLIGHT
TZOFFSETFROM:-0500
TZOFFSETTO:-0400
TZNAME:EDT
DTSTART:20170312T070000
END:DAYLIGHT
BEGIN:STANDARD
TZOFFSETFROM:-0400
TZOFFSETTO:-0500
TZNAME:EST
DTSTART:20171105T060000
END:STANDARD
BEGIN:DAYLIGHT
TZOFFSETFROM:-0500
TZOFFSETTO:-0400
TZNAME:EDT
DTSTART:20180311T070000
END:DAYLIGHT
BEGIN:STANDARD
TZOFFSETFROM:-0400
TZOFFSETTO:-0500
TZNAME:EST
DTSTART:20181104T060000
END:STANDARD
END:VTIMEZONE
BEGIN:VEVENT
DTSTART;VALUE=DATE:20170915
DTEND;VALUE=DATE:20170918
DTSTAMP:20260420T103333
CREATED:20170207T160023Z
LAST-MODIFIED:20170207T160023Z
UID:18694-1505433600-1505692799@www.womenofthehall.org
SUMMARY:2017 Induction Weekend
DESCRIPTION:National Women’s Hall of Fame induction ceremony takes place in historic Seneca Falls every two years to recognize 8 to 12 American women whose lives and groundbreaking work add chapter upon chapter across the centuries of women making history. We are honored to be a part of memorializing their stories. As many as 600-800 attendees from across the nation join us for this biennial celebration. This year’s induction ceremony will be held at NY Chiropractic College\, followed by a Gala at the Gould Hotel. \nPurchase Tickets / Sponsorships \nSaturday\, September 16th\n\nLuncheon –  12 p.m. (Doors Open at 11 a.m.)\nNew York Chiropractic College\, Athletic Center\, 2360 State Route 89\, Seneca Falls\, New York (Business Attire)\nInduction Ceremony – 2:15 p.m.\nNew York Chiropractic College\, Athletic Center\, 2360 State Route 89\, Seneca Falls\, New York (Business Attire)\nGala Reception – 7 – 9 p.m.\nThe Gould Hotel\, 108 Fall Street\, Seneca Falls\, New York (Cocktail Attire)\n\nJoin us for a memorable event recognizing women who make history. We look forward to welcoming you! \nSponsorship Opportunities\nView all sponsorship opportunities or view individual sponsorship opportunities by clicking on a level below. \n[accordion-trigger] \nElizabeth Cady Stanton Diamond Sponsorship  $50\,000\n[/accordion-trigger]\n[accordion-content]\n1815-1902\, was an abolitionist and leading figure of the early woman’s movement and author of the Declaration of Sentiments\, a call for women’s rights across a variety of spectrums. \n\n2 Tables for ten at Induction Ceremony and Luncheon*\n20 Gala Reception tickets (Saturday evening)\nPreferred seating at all Induction Weekend events\nFull-page color ad in 2017 Commemorative Induction Program**\nLogo identification on inside front cover of Induction invitation\, in Induction video and in all press announcements and promotional materials\n2 Tickets for 2019 Induction\nUnderwrite 25 students’ attendance at the 2017 Induction Ceremony\n\n* You will have the option to enter the names and any dietary restrictions for the 20 attendees when you purchase your sponsorship below. If you don’t have all that information at the time of purchase it can be sent to the Hall at (315) 568-8060 or induction@womenofthehall.org by August 31\, 2017. \n** All submitted ads should follow these guidelines (PDF) and be emailed to induction@womenofthehall.org.\n[/accordion-content]\n[accordion-trigger] \nSacagawea Platinum Sponsorship  $25\,000\n[/accordion-trigger]\n[accordion-content]\n1788-1812\, helped Lewis and Clark find their route to the Pacific Ocean\, by arranging an agreement with the Shoshoni tribes for horses\, and acted as an interpreter with the other Native American tribes encountered along the way. \n\n1 Table for ten at Induction Ceremony and Luncheon*\n10 Gala Reception tickets (Saturday evening)\nPreferred seating at all Induction Weekend events\nFull-page color ad in 2017 Commemorative Induction Program**\nRecognition in all Induction-related press and promotional materials\nUnderwrite 15 students’ attendance at the 2017 Induction Ceremony\n\n* You will have the option to enter the names and any dietary restrictions for the 10 attendees when you purchase your sponsorship below. If you don’t have all that information at the time of purchase it can be sent to the Hall at (315) 568-8060 or induction@womenofthehall.org by August 31\, 2017. \n** All submitted ads should follow these guidelines (PDF) and be emailed to induction@womenofthehall.org.\n[/accordion-content]\n[accordion-trigger] \nSusan B Anthony Gold Sponsorship  $15\,000\n[/accordion-trigger]\n[accordion-content]\n1820 – 1906\, was a suffragist\, abolitionist\, author and speaker who was the president of the National American Woman Suffrage Association. \n\n1 Table for ten at Induction Ceremony and Luncheon*\n7 Gala Reception tickets (Saturday evening)\nPreferred seating at all Induction Weekend events\nFull-page black & white ad in 2017 Commemorative Induction Program**\nRecognition in all Induction-related press and promotional materials\n\n* You will have the option to enter the names and any dietary restrictions for the 10 attendees when you purchase your sponsorship below. If you don’t have all that information at the time of purchase it can be sent to the Hall at (315) 568-8060 or induction@womenofthehall.org by August 31\, 2017. \n** All submitted ads should follow these guidelines (PDF) and be emailed to induction@womenofthehall.org.\n[/accordion-content]\n[accordion-trigger] \nHarriet Tubman Silver Sponsorship $10\,000\n[/accordion-trigger]\n[accordion-content]\n1820-1913\, was a former slave and American bondwoman\, who led hundreds of enslaved people to freedom along the route of the Underground Railroad. \n\n1 Table for ten at Induction Ceremony and Luncheon*\n5 Gala Reception tickets (Saturday evening)\nPreferred seating at all Induction Weekend events\nFull-page black & white ad in 2017 Commemorative Induction Program Recognition in all Induction-related press and promotional materials**\n\n* You will have the option to enter the names and any dietary restrictions for the 10 attendees when you purchase your sponsorship below. If you don’t have all that information at the time of purchase it can be sent to the Hall at (315) 568-8060 or induction@womenofthehall.org by August 31\, 2017. \n** All submitted ads should follow these guidelines (PDF) and be emailed to induction@womenofthehall.org.\n[/accordion-content]\n[accordion-trigger] \nAcademic Sponsorship  $10\,000\n[/accordion-trigger]\n[accordion-content] \n\n1 Table for ten at Induction Ceremony and Luncheon*\nPreferred seating at all Induction Weekend events\nFull-page color ad in 2017 Commemorative Induction Program Recognition in all Induction-related press and promotional materials**\n10 New Hall Memberships for a year***\n\n* You will have the option to enter the names and any dietary restrictions for the 10 attendees when you purchase your sponsorship below. If you don’t have all that information at the time of purchase it can be sent to the Hall at (315) 568-8060 or induction@womenofthehall.org by August 31\, 2017. \n** All submitted ads should follow these guidelines (PDF) and be emailed to induction@womenofthehall.org. \n*** You will have the option to enter the names and addresses for the 10 recipients of the new memberships when you purchase your sponsorship below. If you don’t have all that information at the time of purchase it can be sent to the Hall at (315) 568-8060 or induction@womenofthehall.org.\n[/accordion-content]\n[accordion-trigger] \nAmelia Bloomer Bronze Sponsorship  $5\,000\n[/accordion-trigger]\n[accordion-content] \n\n1 Table for ten at Induction Ceremony and Luncheon*\n2 tickets to Gala Reception (Saturday evening)\nPreferred seating at Induction Weekend events\nOne half-page black & white ad in Commemorative Induction Program**\nRecognition in all 2017 Induction-related press and promotional materials\n\n* You will have the option to enter the names and any dietary restrictions for the 10 attendees when you purchase your sponsorship below. If you don’t have all that information at the time of purchase it can be sent to the Hall at (315) 568-8060 or induction@womenofthehall.org by August 31\, 2017. \n** All submitted ads should follow these guidelines (PDF) and be emailed to induction@womenofthehall.org.\n[/accordion-content]\n[accordion-trigger] \nOrganizational Table Sponsorship $3\,000\n[/accordion-trigger]\n[accordion-content] \n\n1 Table for ten at Induction Ceremony and Luncheon*\n2 tickets to Gala Reception (Saturday evening)\n(Additional gala tickets can be purchased at $50/person)**\nBusiness card black & white ad in Commemorative Induction Program***\n8 x 10 Framed Picture of inductees signed by President of National Women’s Hall of Fame\n\n* You will have the option to enter the names and any dietary restrictions for the 10 attendees when you purchase your sponsorship below. If you don’t have all that information at the time of purchase it can be sent to the Hall at (315) 568-8060 or induction@womenofthehall.org by August 31\, 2017. \n** Additional tickets can be purchased below along with the sponsorship. \n*** All submitted ads should follow these guidelines (PDF) and be emailed to induction@womenofthehall.org.\n[/accordion-content]\n[accordion-trigger] \nTable of Friends $2\,500\n[/accordion-trigger]\n[accordion-content] \n\n1 Table for ten at Induction Ceremony and Luncheon*\n2 tickets to Gala Reception (Saturday evening)\n(Additional gala tickets can be purchased at $50/person)**\n10 New Hall Memberships for a year***\n\n* You will have the option to enter the names and any dietary restrictions for the 10 attendees when you purchase your sponsorship below. If you don’t have all that information at the time of purchase it can be sent to the Hall at (315) 568-8060 or induction@womenofthehall.org by August 31\, 2017. \n** Additional tickets can be purchased below along with the sponsorship. \n*** You will have the option to enter the names and addresses for the 10 recipients of the new memberships when you purchase your sponsorship below. If you don’t have all that information at the time of purchase it can be sent to the Hall at (315) 568-8060 or induction@womenofthehall.org.\n[/accordion-content] \nIndividual Tickets\n\nAdmission to Luncheon\, Induction Ceremony and Gala Reception\nAdmission to Luncheon and Induction Ceremony\nGeneral Admission to Induction Ceremony\nHall Membership
URL:https://www.womenofthehall.org/event/2017-induction-weekend/
LOCATION:NY
END:VEVENT
END:VCALENDAR