BEGIN:VCALENDAR
VERSION:2.0
PRODID:-//Women of the Hall - ECPv6.15.20//NONSGML v1.0//EN
CALSCALE:GREGORIAN
METHOD:PUBLISH
X-WR-CALNAME:Women of the Hall
X-ORIGINAL-URL:https://www.womenofthehall.org
X-WR-CALDESC:Events for Women of the Hall
REFRESH-INTERVAL;VALUE=DURATION:PT1H
X-Robots-Tag:noindex
X-PUBLISHED-TTL:PT1H
BEGIN:VTIMEZONE
TZID:America/New_York
BEGIN:DAYLIGHT
TZOFFSETFROM:-0500
TZOFFSETTO:-0400
TZNAME:EDT
DTSTART:20160313T070000
END:DAYLIGHT
BEGIN:STANDARD
TZOFFSETFROM:-0400
TZOFFSETTO:-0500
TZNAME:EST
DTSTART:20161106T060000
END:STANDARD
BEGIN:DAYLIGHT
TZOFFSETFROM:-0500
TZOFFSETTO:-0400
TZNAME:EDT
DTSTART:20170312T070000
END:DAYLIGHT
BEGIN:STANDARD
TZOFFSETFROM:-0400
TZOFFSETTO:-0500
TZNAME:EST
DTSTART:20171105T060000
END:STANDARD
BEGIN:DAYLIGHT
TZOFFSETFROM:-0500
TZOFFSETTO:-0400
TZNAME:EDT
DTSTART:20180311T070000
END:DAYLIGHT
BEGIN:STANDARD
TZOFFSETFROM:-0400
TZOFFSETTO:-0500
TZNAME:EST
DTSTART:20181104T060000
END:STANDARD
END:VTIMEZONE
BEGIN:VEVENT
DTSTART;TZID=America/New_York:20170713T183000
DTEND;TZID=America/New_York:20170713T213000
DTSTAMP:20260420T133923
CREATED:20170609T205046Z
LAST-MODIFIED:20170609T205046Z
UID:19179-1499970600-1499981400@www.womenofthehall.org
SUMMARY:Confluence: Dinner and After Party
DESCRIPTION:Location:\nOn the waterfront\, adjoining the historic 1844 Seneca Knitting Mill One Canal Street\, Seneca Falls\, NY \n\nJoin us for a spirited evening on the Seneca Falls waterfront featuring women producers and artists of the Finger Lakes\, including wine and cider makers\, chefs\, farmers\, glassmakers\, carpenters\, and musicians. \nGlass decor created by women glassmakers on the Corning Museum of Glass GlassBarge \nHarvest table benches made by the students of Hammerstone Carpentry School for Women \nMusic by Jen Cork and the Good Hope \nSpecial thanks to the Gould Hotel and Hospitality Concepts Group \nWine\, cider\, food and fare for our event will be delivered by water to Seneca Falls from Cayuga and Seneca Lakes. \nSchedule of Events:\nCool drinks & hot glass – 6:30\nHarvest table dinner – 7:30\nSunset auction – 8:30\nCandlelight tour of the Mill – 9:00\nAfter Hours Party – 9:00-11:00 \nInterested only in After Hours party?  For Information and Tickets click here. \nTickets\nDinner for Eight – $1\,500\nDinner for Two – $400\nDinner for One – $250 \n\nIf you have any questions or experience any issues purchasing tickets please contact Jessica Giles.
URL:https://www.womenofthehall.org/event/confluence/
LOCATION:NY
END:VEVENT
BEGIN:VEVENT
DTSTART;TZID=America/New_York:20170713T210000
DTEND;TZID=America/New_York:20170713T230000
DTSTAMP:20260420T133923
CREATED:20170616T191521Z
LAST-MODIFIED:20170616T191521Z
UID:19254-1499979600-1499986800@www.womenofthehall.org
SUMMARY:Confluence After Hours Party
DESCRIPTION:Location:\nAt the historic 1844 Seneca Knitting Mill One Canal Street\, Seneca Falls\, NY \n\nJoin us for an evening after hours party featuring: \n\nWhiskey\, sweets and cigars\nWine and Cider\nA sneak peak of the future Women’s Hall of Fame in the historic Seneca Knitting Mill\nHot glass demonstrations on the canal by GlassBarge from the Corning Museum of Glass’ all-women glass team\n\nLooking for tickets to the main event? Click here for Confluence Main Event Info & Tickets
URL:https://www.womenofthehall.org/event/confluence-hours-party/
LOCATION:NY
END:VEVENT
END:VCALENDAR