BEGIN:VCALENDAR
VERSION:2.0
PRODID:-//Women of the Hall - ECPv6.15.20//NONSGML v1.0//EN
CALSCALE:GREGORIAN
METHOD:PUBLISH
X-WR-CALNAME:Women of the Hall
X-ORIGINAL-URL:https://www.womenofthehall.org
X-WR-CALDESC:Events for Women of the Hall
REFRESH-INTERVAL;VALUE=DURATION:PT1H
X-Robots-Tag:noindex
X-PUBLISHED-TTL:PT1H
BEGIN:VTIMEZONE
TZID:America/New_York
BEGIN:DAYLIGHT
TZOFFSETFROM:-0500
TZOFFSETTO:-0400
TZNAME:EDT
DTSTART:20160313T070000
END:DAYLIGHT
BEGIN:STANDARD
TZOFFSETFROM:-0400
TZOFFSETTO:-0500
TZNAME:EST
DTSTART:20161106T060000
END:STANDARD
BEGIN:DAYLIGHT
TZOFFSETFROM:-0500
TZOFFSETTO:-0400
TZNAME:EDT
DTSTART:20170312T070000
END:DAYLIGHT
BEGIN:STANDARD
TZOFFSETFROM:-0400
TZOFFSETTO:-0500
TZNAME:EST
DTSTART:20171105T060000
END:STANDARD
BEGIN:DAYLIGHT
TZOFFSETFROM:-0500
TZOFFSETTO:-0400
TZNAME:EDT
DTSTART:20180311T070000
END:DAYLIGHT
BEGIN:STANDARD
TZOFFSETFROM:-0400
TZOFFSETTO:-0500
TZNAME:EST
DTSTART:20181104T060000
END:STANDARD
END:VTIMEZONE
BEGIN:VEVENT
DTSTART;TZID=America/New_York:20170518T180000
DTEND;TZID=America/New_York:20170518T210000
DTSTAMP:20260420T164609
CREATED:20170223T164553Z
LAST-MODIFIED:20170223T164553Z
UID:18790-1495130400-1495141200@www.womenofthehall.org
SUMMARY:A SmART Event
DESCRIPTION:For the benefit of the National Women’s Hall of Fame\n\nGallery Admission\nCocktails & Hors d’Oeuvres\nHistorical perspectives on notable Rochester women from The Monroe County Historian\nRaffle and Art Auction\nMeet and greet the artists\n\nDownload the flyer \nBidding Open Online Now\nPRE-BID ONLINE before the event
URL:https://www.womenofthehall.org/event/a-smart-event/
LOCATION:NY
END:VEVENT
END:VCALENDAR